BEGIN:VCALENDAR
VERSION:2.0
PRODID:-//ChamberMaster//Event Calendar 2.0//EN
METHOD:PUBLISH
X-PUBLISHED-TTL:P1H
REFRESH-INTERVAL:P1H
CALSCALE:GREGORIAN
BEGIN:VTIMEZONE
TZID:America/Los_Angeles
BEGIN:DAYLIGHT
RRULE:FREQ=YEARLY;BYMONTH=3;BYDAY=2SU
DTSTART:20070101T000000
TZOFFSETFROM:-0800
TZOFFSETTO:-0700
TZNAME:Pacific Daylight Time
END:DAYLIGHT
BEGIN:STANDARD
RRULE:FREQ=YEARLY;BYMONTH=11;BYDAY=1SU
DTSTART:20070101T000000
TZOFFSETFROM:-0700
TZOFFSETTO:-0800
TZNAME:Pacific Standard Time
END:STANDARD
END:VTIMEZONE
BEGIN:VEVENT
DTSTART;TZID=America/Los_Angeles:20260516T110000
DTEND;TZID=America/Los_Angeles:20260517T160000
X-MICROSOFT-CDO-ALLDAYEVENT:FALSE
SUMMARY:Chelan Home Tour
DESCRIPTION:Building NCW is pleased to announce that the 1st Annual Chelan Home Tour will take place May 16th & 17th brought to you by EDY Construction. This inaugural event marks an exciting opportunity to celebrate the artistry\, innovation\, and craftsmanship of our local building community\, all set against the stunning backdrop of the Chelan Valley. We look forward to creating an exceptional experience for attendees and participants alike with thoughtfully designed homes\, inspiring details\, and a true showcase of the beauty\, quality\, and creativity found throughout North Central Washington. This event wouldn't be possible without the support of Marson & Marson\, Lake Chelan Building Supply\, Precision Waterjet Inc.\, & Sherwin-Williams.       We're proud to highlight an incredible lineup of builders and grateful sponsors helping bring this event to life.      For the 1st Annual Chelan Home Tour will showcase work from\;☀️Martin Custom Homes & Framing 🎶Blu Water Homes 🌅 K & L Homes💝RAS Construction 🥽ASDI🎆Yacinde Wapito Point For the 1st Annual Chelan Home Tour will showcase wines from\; (Saturday from 2pm - 5pm only)🍷 Hard Row to Hoe 🍷Tsillan Cellars🍷Rocky Pond Winery 🍷Fielding Hills Winery 🍏 Endless Orchard Cider 🍺Stormy Mountain Brewing
X-ALT-DESC;FMTTYPE=text/html:<!DOCTYPE html><html><head><title></title></head><body aria-disabled="false"><p>&nbsp\; &nbsp\;Building NCW is pleased to announce that the <strong fr-original-style="" style="font-weight: 700\;">1st Annual Chelan Home Tour will take place May 16th &amp\; 17th</strong> brought to you by <a fr-original-style="" href="https://edyconstruction.com/" rel="noopener noreferrer" style="user-select: auto\;" target="_blank"><strong fr-original-style="" style="font-weight: 700\;">EDY Construction</strong></a>. This inaugural event marks an exciting opportunity to celebrate the artistry\, innovation\, and craftsmanship of our local building community\, all set against the stunning backdrop of the Chelan Valley. We look forward to creating an exceptional experience for attendees and participants alike&mdash\;with thoughtfully designed homes\, inspiring details\, and a true showcase of the beauty\, quality\, and creativity found throughout North Central Washington. This event wouldn&#39\;t be possible without the support of <a fr-original-style="" href="https://www.marsonandmarson.com/" rel="noopener noreferrer" style="user-select: auto\;" target="_blank"><strong fr-original-style="" style="font-weight: 700\;">Marson &amp\; Marson</strong></a><strong fr-original-style="" style="font-weight: 700\;">\, <a fr-original-style="" href="https://www.lakechelanbuildingsupply.com/" rel="noopener noreferrer" style="user-select: auto\;" target="_blank">Lake Chelan Building Supply</a>\, <a fr-original-style="" href="https://pwjstone.com/" rel="noopener noreferrer" style="user-select: auto\;" target="_blank">Precision Waterjet Inc.</a>\, <a fr-original-style="" href="https://www.sherwin-williams.com/store-locator/paint-store/wenatchee/wa/701740?utm_source=google&utm_medium=local_listing&utm_campaign=tag_local_listing" rel="noopener noreferrer" style="user-select: auto\;" target="_blank">&amp\; Sherwin-Williams</a>.&nbsp\;</strong>&nbsp\; &nbsp\;&nbsp\;</p><p>&nbsp\; We&rsquo\;re proud to highlight an incredible lineup of builders and grateful sponsors helping bring this event to life. &nbsp\; &nbsp\; &nbsp\;</p><p><strong fr-original-style="" style="font-weight: 700\;">For the 1st Annual Chelan Home Tour will showcase work from</strong>\;</p><p><a fr-original-style="" href="https://www.martincustomhomesandframing.com/portfolio" rel="noopener noreferrer" style="user-select: auto\;" target="_blank">☀️Martin Custom Homes &amp\; Framing&nbsp\;</a></p><p><a fr-original-style="" href="https://www.bluwaterhomes.com/" rel="noopener noreferrer" style="user-select: auto\;" target="_blank">🎶Blu Water Homes&nbsp\;</a></p><p><a fr-original-style="" href="https://kandlhomesllc.com/" rel="noopener noreferrer" style="user-select: auto\;" target="_blank">🌅 K &amp\; L Homes</a></p><p><a fr-original-style="" href="https://rasconstructioninc.com/" rel="noopener noreferrer" style="user-select: auto\;" target="_blank">💝RAS Construction</a>&nbsp\;</p><p><a fr-original-style="" href="https://www.asquaredealconstruction.com/projects" rel="noopener noreferrer" style="user-select: auto\;" target="_blank">🥽ASDI</a></p><p><a fr-original-style="" href="https://www.yacindewapatopoint.com/contact" rel="noopener noreferrer" style="user-select: auto\;" target="_blank">🎆Yacinde Wapito Point&nbsp\;</a></p><p><strong fr-original-style="" style="font-weight: 700\;">For the 1st Annual Chelan Home Tour will showcase wines from</strong>\; (Saturday from 2pm - 5pm only)</p><p>🍷 <a fr-original-style="" href="https://www.hardrow.com/" rel="noopener noreferrer" style="user-select: auto\;" target="_blank">Hard Row to Hoe&nbsp\;</a></p><p>🍷<a fr-original-style="" href="https://tsillancellars.com/" rel="noopener noreferrer" style="user-select: auto\;" target="_blank">Tsillan Cellars</a></p><p>🍷<a fr-original-style="" href="https://rockypondwinery.com/upcoming-events/?gad_source=1&gad_campaignid=16702066784&gclid=Cj0KCQjwkYLPBhC3ARIsAIyHi3RS3hXPGUAYaO2U2GYiABM9ksj8oR4I6b8ZAH8_Zb28LE1wOqz8RpMaAu_rEALw_wcB" rel="noopener noreferrer" style="user-select: auto\;" target="_blank">Rocky Pond Winery&nbsp\;</a></p><p>🍷<a fr-original-style="" href="https://www.fieldinghills.com/" rel="noopener noreferrer" style="user-select: auto\;" target="_blank">Fielding Hills Winery</a>&nbsp\;</p><p>🍏 <a fr-original-style="" href="https://endlessorchardcider.com/" rel="noopener noreferrer" style="user-select: auto\;" target="_blank">Endless Orchard Cider</a>&nbsp\;</p><p>🍺<a fr-original-style="" href="https://stormymountainbrewing.com/" rel="noopener noreferrer" style="user-select: auto\;" target="_blank">Stormy Mountain Brewing</a></p></body></html>
LOCATION:
UID:e.3145.1430007
SEQUENCE:3
DTSTAMP:20260422T133910Z
URL:https://members.buildingncw.org/eventcalendar/Details/chelan-home-tour-1691740?sourceTypeId=Hub
END:VEVENT
END:VCALENDAR
